BEGIN:VCALENDAR
VERSION:2.0
PRODID:-//Roscommon Gaels GAA - ECPv6.15.17.1//NONSGML v1.0//EN
CALSCALE:GREGORIAN
METHOD:PUBLISH
X-WR-CALNAME:Roscommon Gaels GAA
X-ORIGINAL-URL:https://www.roscommongaels.ie
X-WR-CALDESC:Events for Roscommon Gaels GAA
REFRESH-INTERVAL;VALUE=DURATION:PT1H
X-Robots-Tag:noindex
X-PUBLISHED-TTL:PT1H
BEGIN:VTIMEZONE
TZID:Europe/Dublin
BEGIN:DAYLIGHT
TZOFFSETFROM:+0000
TZOFFSETTO:+0100
TZNAME:IST
DTSTART:20250330T010000
END:DAYLIGHT
BEGIN:STANDARD
TZOFFSETFROM:+0100
TZOFFSETTO:+0000
TZNAME:GMT
DTSTART:20251026T010000
END:STANDARD
BEGIN:DAYLIGHT
TZOFFSETFROM:+0000
TZOFFSETTO:+0100
TZNAME:IST
DTSTART:20260329T010000
END:DAYLIGHT
BEGIN:STANDARD
TZOFFSETFROM:+0100
TZOFFSETTO:+0000
TZNAME:GMT
DTSTART:20261025T010000
END:STANDARD
BEGIN:DAYLIGHT
TZOFFSETFROM:+0000
TZOFFSETTO:+0100
TZNAME:IST
DTSTART:20270328T010000
END:DAYLIGHT
BEGIN:STANDARD
TZOFFSETFROM:+0100
TZOFFSETTO:+0000
TZNAME:GMT
DTSTART:20271031T010000
END:STANDARD
END:VTIMEZONE
BEGIN:VTIMEZONE
TZID:UTC
BEGIN:STANDARD
TZOFFSETFROM:+0000
TZOFFSETTO:+0000
TZNAME:UTC
DTSTART:20250101T000000
END:STANDARD
END:VTIMEZONE
BEGIN:VEVENT
DTSTART;TZID=Europe/Dublin:20260426T093000
DTEND;TZID=Europe/Dublin:20260426T113000
DTSTAMP:20260426T013408
CREATED:20260301T182238Z
LAST-MODIFIED:20260301T182238Z
UID:10006511-1777195800-1777203000@www.roscommongaels.ie
SUMMARY:Senior Football - Paul Mcgarry
DESCRIPTION:
URL:https://www.roscommongaels.ie/pitch-calendar/senior-football-paul-mcgarry-2/2026-04-26/
LOCATION:Back Pitch Right\, Lisnamult\, Roscommon\, Roscommon\, F42 YA40\, Ireland
END:VEVENT
BEGIN:VEVENT
DTSTART;TZID=Europe/Dublin:20260426T110000
DTEND;TZID=Europe/Dublin:20260426T130000
DTSTAMP:20260426T013408
CREATED:20260404T124903Z
LAST-MODIFIED:20260411T111557Z
UID:10007338-1777201200-1777208400@www.roscommongaels.ie
SUMMARY:Junior Ladies LGFA Semi Final
DESCRIPTION:
URL:https://www.roscommongaels.ie/pitch-calendar/junior-ladies-lgfa-semi-final/
LOCATION:Main Pitch\, Lisnamult\, Roscommon\, Roscommon\, F42 YA40\, Ireland
END:VEVENT
BEGIN:VEVENT
DTSTART;TZID=UTC:20260426T120000
DTEND;TZID=UTC:20260426T131500
DTSTAMP:20260426T013408
CREATED:20260410T194027Z
LAST-MODIFIED:20260410T194027Z
UID:10007353-1777204800-1777209300@www.roscommongaels.ie
SUMMARY:U14 LGFA Michael Reilly
DESCRIPTION:
URL:https://www.roscommongaels.ie/pitch-calendar/u14-lgfa-michael-reilly-2/2026-04-26/
LOCATION:Front Training Pitch\, Lisnamult\, Roscommon\, Roscommon\, F42 YA40\, Ireland
END:VEVENT
BEGIN:VEVENT
DTSTART;TZID=Europe/Dublin:20260426T171500
DTEND;TZID=Europe/Dublin:20260426T183000
DTSTAMP:20260426T013408
CREATED:20250212T222112Z
LAST-MODIFIED:20260413T220439Z
UID:10007455-1777223700-1777228200@www.roscommongaels.ie
SUMMARY:U16 Football Boys
DESCRIPTION:
URL:https://www.roscommongaels.ie/pitch-calendar/davy-kelly-u16-football/2026-04-26/
LOCATION:New Pitch Back\, Lisnamult\, Roscommon\, Roscommon\, F42 YA40\, Ireland
END:VEVENT
BEGIN:VEVENT
DTSTART;TZID=Europe/Dublin:20260426T183000
DTEND;TZID=Europe/Dublin:20260426T193000
DTSTAMP:20260426T013408
CREATED:20260316T121328Z
LAST-MODIFIED:20260323T121205Z
UID:10007022-1777228200-1777231800@www.roscommongaels.ie
SUMMARY:U14 Hurling ronan clogher
DESCRIPTION:
URL:https://www.roscommongaels.ie/pitch-calendar/u14-hurling-ronan-clogher-2/2026-04-26/
LOCATION:New Pitch Back\, Lisnamult\, Roscommon\, Roscommon\, F42 YA40\, Ireland
END:VEVENT
END:VCALENDAR